BEGIN:VCALENDAR
VERSION:2.0
PRODID:-//web.bsv-halle.de - ECPv6.15.12.2//NONSGML v1.0//EN
CALSCALE:GREGORIAN
METHOD:PUBLISH
X-ORIGINAL-URL:https://web.bsv-halle.de/cms
X-WR-CALDESC:Veranstaltungen für web.bsv-halle.de
REFRESH-INTERVAL;VALUE=DURATION:PT1H
X-Robots-Tag:noindex
X-PUBLISHED-TTL:PT1H
BEGIN:VTIMEZONE
TZID:Europe/Berlin
BEGIN:DAYLIGHT
TZOFFSETFROM:+0100
TZOFFSETTO:+0200
TZNAME:CEST
DTSTART:20250330T010000
END:DAYLIGHT
BEGIN:STANDARD
TZOFFSETFROM:+0200
TZOFFSETTO:+0100
TZNAME:CET
DTSTART:20251026T010000
END:STANDARD
BEGIN:DAYLIGHT
TZOFFSETFROM:+0100
TZOFFSETTO:+0200
TZNAME:CEST
DTSTART:20260329T010000
END:DAYLIGHT
BEGIN:STANDARD
TZOFFSETFROM:+0200
TZOFFSETTO:+0100
TZNAME:CET
DTSTART:20261025T010000
END:STANDARD
BEGIN:DAYLIGHT
TZOFFSETFROM:+0100
TZOFFSETTO:+0200
TZNAME:CEST
DTSTART:20270328T010000
END:DAYLIGHT
BEGIN:STANDARD
TZOFFSETFROM:+0200
TZOFFSETTO:+0100
TZNAME:CET
DTSTART:20271031T010000
END:STANDARD
END:VTIMEZONE
BEGIN:VEVENT
DTSTART;TZID=Europe/Berlin:20260510T000000
DTEND;TZID=Europe/Berlin:20260510T235959
DTSTAMP:20260422T151015
CREATED:20260422T085853Z
LAST-MODIFIED:20260422T085854Z
UID:2563-1778371200-1778457599@web.bsv-halle.de
SUMMARY:Tagestour: Saale von Brachwitz nach Rothenburg/Saale
DESCRIPTION:Tagestour:Saale von Brachwitz nach Rothenburg/Saale\,22 km\, 1 Schleusung \n\n\n\ngenauere Informationen ca. 3 Wochen zuvor
URL:https://web.bsv-halle.de/cms/event/tagestour-saale-von-brachwitz-nach-rothenburg-saale/
ATTACH;FMTTYPE=image/jpeg:https://web.bsv-halle.de/cms/wp-content/uploads/2024/01/mit-dem-kanu-auf-der-lahn.jpg
END:VEVENT
END:VCALENDAR