BEGIN:VCALENDAR
VERSION:2.0
PRODID:-//web.bsv-halle.de - ECPv6.15.12.2//NONSGML v1.0//EN
CALSCALE:GREGORIAN
METHOD:PUBLISH
X-WR-CALNAME:web.bsv-halle.de
X-ORIGINAL-URL:https://web.bsv-halle.de/cms
X-WR-CALDESC:Veranstaltungen für web.bsv-halle.de
REFRESH-INTERVAL;VALUE=DURATION:PT1H
X-Robots-Tag:noindex
X-PUBLISHED-TTL:PT1H
BEGIN:VTIMEZONE
TZID:Europe/Berlin
BEGIN:DAYLIGHT
TZOFFSETFROM:+0100
TZOFFSETTO:+0200
TZNAME:CEST
DTSTART:20250330T010000
END:DAYLIGHT
BEGIN:STANDARD
TZOFFSETFROM:+0200
TZOFFSETTO:+0100
TZNAME:CET
DTSTART:20251026T010000
END:STANDARD
BEGIN:DAYLIGHT
TZOFFSETFROM:+0100
TZOFFSETTO:+0200
TZNAME:CEST
DTSTART:20260329T010000
END:DAYLIGHT
BEGIN:STANDARD
TZOFFSETFROM:+0200
TZOFFSETTO:+0100
TZNAME:CET
DTSTART:20261025T010000
END:STANDARD
BEGIN:DAYLIGHT
TZOFFSETFROM:+0100
TZOFFSETTO:+0200
TZNAME:CEST
DTSTART:20270328T010000
END:DAYLIGHT
BEGIN:STANDARD
TZOFFSETFROM:+0200
TZOFFSETTO:+0100
TZNAME:CET
DTSTART:20271031T010000
END:STANDARD
END:VTIMEZONE
BEGIN:VEVENT
DTSTART;TZID=Europe/Berlin:20260910T000000
DTEND;TZID=Europe/Berlin:20260913T235959
DTSTAMP:20260424T171241
CREATED:20260422T090214Z
LAST-MODIFIED:20260422T090214Z
UID:2568-1788998400-1789343999@web.bsv-halle.de
SUMMARY:Kanu Wandern: Wochenend-Tour
DESCRIPTION:Donnerstag bis Sonntag\, 10. – 13.9.2026\, Wochenend-Tour:Berliner Gewässer vom KC Erkner aus (= Camp)\, ohne Wehre und Schleusen: Freitag:Erkner – Karolinenhof über Dämeritzsee\, Müggelspree (mit Abstecher „Klein Venedig“ + ca.3 km)\, Müggelsee\, Spree\, Dahme\, ca. 20 km. Samstag: Karolinenhof – Erkner überDahme\, Seddinsee\, Gosener Graben (ca. 11 km) danach nach Belieben Abstecher aufder Müggelspree zum Zpl. Jägerbude und zurück\, ca. 14 km. Sonntag: Dämeritzsee –Löcknitz und zurück\, ca. 13 km und Rückfahrt.Teilnahme an einzelnen Tagen ist möglich. / genauere Informationen ca. 3 Wochen zuvor
URL:https://web.bsv-halle.de/cms/event/kanu-wandern-wochenend-tour/
ATTACH;FMTTYPE=image/jpeg:https://web.bsv-halle.de/cms/wp-content/uploads/2024/01/mit-dem-kanu-auf-der-lahn.jpg
END:VEVENT
END:VCALENDAR