BEGIN:VCALENDAR
VERSION:2.0
PRODID:-//web.bsv-halle.de - ECPv6.15.12.2//NONSGML v1.0//EN
CALSCALE:GREGORIAN
METHOD:PUBLISH
X-WR-CALNAME:web.bsv-halle.de
X-ORIGINAL-URL:https://web.bsv-halle.de/cms
X-WR-CALDESC:Veranstaltungen für web.bsv-halle.de
REFRESH-INTERVAL;VALUE=DURATION:PT1H
X-Robots-Tag:noindex
X-PUBLISHED-TTL:PT1H
BEGIN:VTIMEZONE
TZID:Europe/Berlin
BEGIN:DAYLIGHT
TZOFFSETFROM:+0100
TZOFFSETTO:+0200
TZNAME:CEST
DTSTART:20250330T010000
END:DAYLIGHT
BEGIN:STANDARD
TZOFFSETFROM:+0200
TZOFFSETTO:+0100
TZNAME:CET
DTSTART:20251026T010000
END:STANDARD
BEGIN:DAYLIGHT
TZOFFSETFROM:+0100
TZOFFSETTO:+0200
TZNAME:CEST
DTSTART:20260329T010000
END:DAYLIGHT
BEGIN:STANDARD
TZOFFSETFROM:+0200
TZOFFSETTO:+0100
TZNAME:CET
DTSTART:20261025T010000
END:STANDARD
BEGIN:DAYLIGHT
TZOFFSETFROM:+0100
TZOFFSETTO:+0200
TZNAME:CEST
DTSTART:20270328T010000
END:DAYLIGHT
BEGIN:STANDARD
TZOFFSETFROM:+0200
TZOFFSETTO:+0100
TZNAME:CET
DTSTART:20271031T010000
END:STANDARD
END:VTIMEZONE
BEGIN:VEVENT
DTSTART;TZID=Europe/Berlin:20260422T173000
DTEND;TZID=Europe/Berlin:20260422T193000
DTSTAMP:20260422T104439
CREATED:20260422T080326Z
LAST-MODIFIED:20260422T080326Z
UID:2506-1776879000-1776886200@web.bsv-halle.de
SUMMARY:offenes Feierabendpaddeln
DESCRIPTION:Paddeln auf der Saale und ihren Nebenarmen – keine Voranmeldung nötig!
URL:https://web.bsv-halle.de/cms/event/offenes-feierabendpaddeln/
LOCATION:Bootshaus\, Böllberger Weg 181C\, Halle (Saale)\, Germany
ATTACH;FMTTYPE=image/jpeg:https://web.bsv-halle.de/cms/wp-content/uploads/2024/06/IMG_0243.jpeg
END:VEVENT
BEGIN:VEVENT
DTSTART;TZID=Europe/Berlin:20260429T173000
DTEND;TZID=Europe/Berlin:20260429T193000
DTSTAMP:20260422T104439
CREATED:20260422T081445Z
LAST-MODIFIED:20260422T081508Z
UID:2512-1777483800-1777491000@web.bsv-halle.de
SUMMARY:offenes Feierabendpaddeln
DESCRIPTION:Paddeln auf der Saale und ihren Nebenarmen – keine Voranmeldung nötig!
URL:https://web.bsv-halle.de/cms/event/offenes-feierabendpaddeln-duplikat/
LOCATION:Bootshaus\, Böllberger Weg 181C\, Halle (Saale)\, Germany
ATTACH;FMTTYPE=image/jpeg:https://web.bsv-halle.de/cms/wp-content/uploads/2024/06/IMG_0243.jpeg
END:VEVENT
BEGIN:VEVENT
DTSTART;TZID=Europe/Berlin:20260501T140000
DTEND;TZID=Europe/Berlin:20260501T200000
DTSTAMP:20260422T104439
CREATED:20260108T080659Z
LAST-MODIFIED:20260422T081019Z
UID:2364-1777644000-1777665600@web.bsv-halle.de
SUMMARY:traditionelles Anpaddeln des Vereins
DESCRIPTION:Anpaddeln2026Herunterladen
URL:https://web.bsv-halle.de/cms/event/anpaddeln-2/
LOCATION:Bootshaus\, Böllberger Weg 181C\, Halle (Saale)\, Germany
ATTACH;FMTTYPE=image/jpeg:https://web.bsv-halle.de/cms/wp-content/uploads/2025/05/IMG-20250521-WA0008.jpg
END:VEVENT
BEGIN:VEVENT
DTSTART;TZID=Europe/Berlin:20260504T180000
DTEND;TZID=Europe/Berlin:20260504T210000
DTSTAMP:20260422T104439
CREATED:20260108T075910Z
LAST-MODIFIED:20260108T075911Z
UID:2344-1777917600-1777928400@web.bsv-halle.de
SUMMARY:Sektionsleitung Kanu + Vorstand
DESCRIPTION:Kommt für Fragen oder Anregungen gerne vorbei. Über eine vorherige Anmeldung würden wir uns freuen.
URL:https://web.bsv-halle.de/cms/event/sektionsleitung-kanu-vorstand-12/
LOCATION:Bootshaus\, Böllberger Weg 181C\, Halle (Saale)\, Germany
END:VEVENT
BEGIN:VEVENT
DTSTART;TZID=Europe/Berlin:20260506T173000
DTEND;TZID=Europe/Berlin:20260506T193000
DTSTAMP:20260422T104439
CREATED:20260422T081531Z
LAST-MODIFIED:20260422T081532Z
UID:2516-1778088600-1778095800@web.bsv-halle.de
SUMMARY:offenes Feierabendpaddeln
DESCRIPTION:Paddeln auf der Saale und ihren Nebenarmen – keine Voranmeldung nötig!
URL:https://web.bsv-halle.de/cms/event/offenes-feierabendpaddeln-2/
LOCATION:Bootshaus\, Böllberger Weg 181C\, Halle (Saale)\, Germany
ATTACH;FMTTYPE=image/jpeg:https://web.bsv-halle.de/cms/wp-content/uploads/2024/06/IMG_0243.jpeg
END:VEVENT
BEGIN:VEVENT
DTSTART;TZID=Europe/Berlin:20260513T173000
DTEND;TZID=Europe/Berlin:20260513T193000
DTSTAMP:20260422T104439
CREATED:20260422T082751Z
LAST-MODIFIED:20260422T082752Z
UID:2519-1778693400-1778700600@web.bsv-halle.de
SUMMARY:offenes Feierabendpaddeln
DESCRIPTION:Paddeln auf der Saale und ihren Nebenarmen – keine Voranmeldung nötig!
URL:https://web.bsv-halle.de/cms/event/offenes-feierabendpaddeln-3/
LOCATION:Bootshaus\, Böllberger Weg 181C\, Halle (Saale)\, Germany
ATTACH;FMTTYPE=image/jpeg:https://web.bsv-halle.de/cms/wp-content/uploads/2024/06/IMG_0243.jpeg
END:VEVENT
BEGIN:VEVENT
DTSTART;TZID=Europe/Berlin:20260520T173000
DTEND;TZID=Europe/Berlin:20260520T193000
DTSTAMP:20260422T104439
CREATED:20260422T083113Z
LAST-MODIFIED:20260422T083114Z
UID:2521-1779298200-1779305400@web.bsv-halle.de
SUMMARY:offenes Feierabendpaddeln
DESCRIPTION:Paddeln auf der Saale und ihren Nebenarmen – keine Voranmeldung nötig!
URL:https://web.bsv-halle.de/cms/event/offenes-feierabendpaddeln-4/
LOCATION:Bootshaus\, Böllberger Weg 181C\, Halle (Saale)\, Germany
ATTACH;FMTTYPE=image/jpeg:https://web.bsv-halle.de/cms/wp-content/uploads/2024/06/IMG_0243.jpeg
END:VEVENT
BEGIN:VEVENT
DTSTART;TZID=Europe/Berlin:20260527T173000
DTEND;TZID=Europe/Berlin:20260527T193000
DTSTAMP:20260422T104439
CREATED:20260422T083140Z
LAST-MODIFIED:20260422T083140Z
UID:2523-1779903000-1779910200@web.bsv-halle.de
SUMMARY:offenes Feierabendpaddeln
DESCRIPTION:Paddeln auf der Saale und ihren Nebenarmen – keine Voranmeldung nötig!
URL:https://web.bsv-halle.de/cms/event/offenes-feierabendpaddeln-5/
LOCATION:Bootshaus\, Böllberger Weg 181C\, Halle (Saale)\, Germany
ATTACH;FMTTYPE=image/jpeg:https://web.bsv-halle.de/cms/wp-content/uploads/2024/06/IMG_0243.jpeg
END:VEVENT
BEGIN:VEVENT
DTSTART;TZID=Europe/Berlin:20260601T180000
DTEND;TZID=Europe/Berlin:20260601T210000
DTSTAMP:20260422T104439
CREATED:20260108T080059Z
LAST-MODIFIED:20260108T080059Z
UID:2346-1780336800-1780347600@web.bsv-halle.de
SUMMARY:Sektionsleitung Kanu + Vorstand
DESCRIPTION:Kommt für Fragen oder Anregungen gerne vorbei. Über eine vorherige Anmeldung würden wir uns freuen.
URL:https://web.bsv-halle.de/cms/event/sektionsleitung-kanu-vorstand-13/
LOCATION:Bootshaus\, Böllberger Weg 181C\, Halle (Saale)\, Germany
END:VEVENT
BEGIN:VEVENT
DTSTART;TZID=Europe/Berlin:20260603T173000
DTEND;TZID=Europe/Berlin:20260603T193000
DTSTAMP:20260422T104439
CREATED:20260422T083208Z
LAST-MODIFIED:20260422T083208Z
UID:2525-1780507800-1780515000@web.bsv-halle.de
SUMMARY:offenes Feierabendpaddeln
DESCRIPTION:Paddeln auf der Saale und ihren Nebenarmen – keine Voranmeldung nötig!
URL:https://web.bsv-halle.de/cms/event/offenes-feierabendpaddeln-6/
LOCATION:Bootshaus\, Böllberger Weg 181C\, Halle (Saale)\, Germany
ATTACH;FMTTYPE=image/jpeg:https://web.bsv-halle.de/cms/wp-content/uploads/2024/06/IMG_0243.jpeg
END:VEVENT
BEGIN:VEVENT
DTSTART;TZID=Europe/Berlin:20260610T173000
DTEND;TZID=Europe/Berlin:20260610T193000
DTSTAMP:20260422T104439
CREATED:20260422T083305Z
LAST-MODIFIED:20260422T083317Z
UID:2527-1781112600-1781119800@web.bsv-halle.de
SUMMARY:offenes Feierabendpaddeln
DESCRIPTION:Paddeln auf der Saale und ihren Nebenarmen – keine Voranmeldung nötig!
URL:https://web.bsv-halle.de/cms/event/offenes-feierabendpaddeln-duplikat-2/
LOCATION:Bootshaus\, Böllberger Weg 181C\, Halle (Saale)\, Germany
ATTACH;FMTTYPE=image/jpeg:https://web.bsv-halle.de/cms/wp-content/uploads/2024/06/IMG_0243.jpeg
END:VEVENT
BEGIN:VEVENT
DTSTART;TZID=Europe/Berlin:20260617T173000
DTEND;TZID=Europe/Berlin:20260617T193000
DTSTAMP:20260422T104439
CREATED:20260422T083336Z
LAST-MODIFIED:20260422T083337Z
UID:2530-1781717400-1781724600@web.bsv-halle.de
SUMMARY:offenes Feierabendpaddeln
DESCRIPTION:Paddeln auf der Saale und ihren Nebenarmen – keine Voranmeldung nötig!
URL:https://web.bsv-halle.de/cms/event/offenes-feierabendpaddeln-7/
LOCATION:Bootshaus\, Böllberger Weg 181C\, Halle (Saale)\, Germany
ATTACH;FMTTYPE=image/jpeg:https://web.bsv-halle.de/cms/wp-content/uploads/2024/06/IMG_0243.jpeg
END:VEVENT
BEGIN:VEVENT
DTSTART;TZID=Europe/Berlin:20260624T173000
DTEND;TZID=Europe/Berlin:20260624T193000
DTSTAMP:20260422T104439
CREATED:20260422T083359Z
LAST-MODIFIED:20260422T083359Z
UID:2532-1782322200-1782329400@web.bsv-halle.de
SUMMARY:offenes Feierabendpaddeln
DESCRIPTION:Paddeln auf der Saale und ihren Nebenarmen – keine Voranmeldung nötig!
URL:https://web.bsv-halle.de/cms/event/offenes-feierabendpaddeln-8/
LOCATION:Bootshaus\, Böllberger Weg 181C\, Halle (Saale)\, Germany
ATTACH;FMTTYPE=image/jpeg:https://web.bsv-halle.de/cms/wp-content/uploads/2024/06/IMG_0243.jpeg
END:VEVENT
BEGIN:VEVENT
DTSTART;TZID=Europe/Berlin:20260629T180000
DTEND;TZID=Europe/Berlin:20260629T210000
DTSTAMP:20260422T104439
CREATED:20260108T080125Z
LAST-MODIFIED:20260108T080125Z
UID:2348-1782756000-1782766800@web.bsv-halle.de
SUMMARY:Sektionsleitung Kanu + Vorstand
DESCRIPTION:Kommt für Fragen oder Anregungen gerne vorbei. Über eine vorherige Anmeldung würden wir uns freuen.
URL:https://web.bsv-halle.de/cms/event/sektionsleitung-kanu-vorstand-14/
LOCATION:Bootshaus\, Böllberger Weg 181C\, Halle (Saale)\, Germany
END:VEVENT
BEGIN:VEVENT
DTSTART;TZID=Europe/Berlin:20260701T173000
DTEND;TZID=Europe/Berlin:20260701T193000
DTSTAMP:20260422T104439
CREATED:20260422T083429Z
LAST-MODIFIED:20260422T083430Z
UID:2534-1782927000-1782934200@web.bsv-halle.de
SUMMARY:offenes Feierabendpaddeln
DESCRIPTION:Paddeln auf der Saale und ihren Nebenarmen – keine Voranmeldung nötig!
URL:https://web.bsv-halle.de/cms/event/offenes-feierabendpaddeln-9/
LOCATION:Bootshaus\, Böllberger Weg 181C\, Halle (Saale)\, Germany
ATTACH;FMTTYPE=image/jpeg:https://web.bsv-halle.de/cms/wp-content/uploads/2024/06/IMG_0243.jpeg
END:VEVENT
BEGIN:VEVENT
DTSTART;TZID=Europe/Berlin:20260708T173000
DTEND;TZID=Europe/Berlin:20260708T193000
DTSTAMP:20260422T104439
CREATED:20260422T083504Z
LAST-MODIFIED:20260422T083504Z
UID:2536-1783531800-1783539000@web.bsv-halle.de
SUMMARY:offenes Feierabendpaddeln
DESCRIPTION:Paddeln auf der Saale und ihren Nebenarmen – keine Voranmeldung nötig!
URL:https://web.bsv-halle.de/cms/event/offenes-feierabendpaddeln-10/
LOCATION:Bootshaus\, Böllberger Weg 181C\, Halle (Saale)\, Germany
ATTACH;FMTTYPE=image/jpeg:https://web.bsv-halle.de/cms/wp-content/uploads/2024/06/IMG_0243.jpeg
END:VEVENT
BEGIN:VEVENT
DTSTART;TZID=Europe/Berlin:20260715T173000
DTEND;TZID=Europe/Berlin:20260715T193000
DTSTAMP:20260422T104439
CREATED:20260422T083525Z
LAST-MODIFIED:20260422T083525Z
UID:2538-1784136600-1784143800@web.bsv-halle.de
SUMMARY:offenes Feierabendpaddeln
DESCRIPTION:Paddeln auf der Saale und ihren Nebenarmen – keine Voranmeldung nötig!
URL:https://web.bsv-halle.de/cms/event/offenes-feierabendpaddeln-11/
LOCATION:Bootshaus\, Böllberger Weg 181C\, Halle (Saale)\, Germany
ATTACH;FMTTYPE=image/jpeg:https://web.bsv-halle.de/cms/wp-content/uploads/2024/06/IMG_0243.jpeg
END:VEVENT
BEGIN:VEVENT
DTSTART;TZID=Europe/Berlin:20260722T173000
DTEND;TZID=Europe/Berlin:20260722T193000
DTSTAMP:20260422T104439
CREATED:20260422T083607Z
LAST-MODIFIED:20260422T083608Z
UID:2540-1784741400-1784748600@web.bsv-halle.de
SUMMARY:offenes Feierabendpaddeln
DESCRIPTION:Paddeln auf der Saale und ihren Nebenarmen – keine Voranmeldung nötig!
URL:https://web.bsv-halle.de/cms/event/offenes-feierabendpaddeln-12/
LOCATION:Bootshaus\, Böllberger Weg 181C\, Halle (Saale)\, Germany
ATTACH;FMTTYPE=image/jpeg:https://web.bsv-halle.de/cms/wp-content/uploads/2024/06/IMG_0243.jpeg
END:VEVENT
BEGIN:VEVENT
DTSTART;TZID=Europe/Berlin:20260729T173000
DTEND;TZID=Europe/Berlin:20260729T193000
DTSTAMP:20260422T104439
CREATED:20260422T083628Z
LAST-MODIFIED:20260422T083628Z
UID:2542-1785346200-1785353400@web.bsv-halle.de
SUMMARY:offenes Feierabendpaddeln
DESCRIPTION:Paddeln auf der Saale und ihren Nebenarmen – keine Voranmeldung nötig!
URL:https://web.bsv-halle.de/cms/event/offenes-feierabendpaddeln-13/
LOCATION:Bootshaus\, Böllberger Weg 181C\, Halle (Saale)\, Germany
ATTACH;FMTTYPE=image/jpeg:https://web.bsv-halle.de/cms/wp-content/uploads/2024/06/IMG_0243.jpeg
END:VEVENT
BEGIN:VEVENT
DTSTART;TZID=Europe/Berlin:20260805T173000
DTEND;TZID=Europe/Berlin:20260805T193000
DTSTAMP:20260422T104439
CREATED:20260422T083646Z
LAST-MODIFIED:20260422T083647Z
UID:2544-1785951000-1785958200@web.bsv-halle.de
SUMMARY:offenes Feierabendpaddeln
DESCRIPTION:Paddeln auf der Saale und ihren Nebenarmen – keine Voranmeldung nötig!
URL:https://web.bsv-halle.de/cms/event/offenes-feierabendpaddeln-14/
LOCATION:Bootshaus\, Böllberger Weg 181C\, Halle (Saale)\, Germany
ATTACH;FMTTYPE=image/jpeg:https://web.bsv-halle.de/cms/wp-content/uploads/2024/06/IMG_0243.jpeg
END:VEVENT
BEGIN:VEVENT
DTSTART;TZID=Europe/Berlin:20260812T173000
DTEND;TZID=Europe/Berlin:20260812T193000
DTSTAMP:20260422T104439
CREATED:20260422T083709Z
LAST-MODIFIED:20260422T083709Z
UID:2546-1786555800-1786563000@web.bsv-halle.de
SUMMARY:offenes Feierabendpaddeln
DESCRIPTION:Paddeln auf der Saale und ihren Nebenarmen – keine Voranmeldung nötig!
URL:https://web.bsv-halle.de/cms/event/offenes-feierabendpaddeln-15/
LOCATION:Bootshaus\, Böllberger Weg 181C\, Halle (Saale)\, Germany
ATTACH;FMTTYPE=image/jpeg:https://web.bsv-halle.de/cms/wp-content/uploads/2024/06/IMG_0243.jpeg
END:VEVENT
BEGIN:VEVENT
DTSTART;TZID=Europe/Berlin:20260817T180000
DTEND;TZID=Europe/Berlin:20260817T210000
DTSTAMP:20260422T104439
CREATED:20260108T080148Z
LAST-MODIFIED:20260108T080149Z
UID:2350-1786989600-1787000400@web.bsv-halle.de
SUMMARY:Sektionsleitung Kanu + Vorstand
DESCRIPTION:Kommt für Fragen oder Anregungen gerne vorbei. Über eine vorherige Anmeldung würden wir uns freuen.
URL:https://web.bsv-halle.de/cms/event/sektionsleitung-kanu-vorstand-15/
LOCATION:Bootshaus\, Böllberger Weg 181C\, Halle (Saale)\, Germany
END:VEVENT
BEGIN:VEVENT
DTSTART;TZID=Europe/Berlin:20260819T173000
DTEND;TZID=Europe/Berlin:20260819T193000
DTSTAMP:20260422T104439
CREATED:20260422T083747Z
LAST-MODIFIED:20260422T083747Z
UID:2548-1787160600-1787167800@web.bsv-halle.de
SUMMARY:offenes Feierabendpaddeln
DESCRIPTION:Paddeln auf der Saale und ihren Nebenarmen – keine Voranmeldung nötig!
URL:https://web.bsv-halle.de/cms/event/offenes-feierabendpaddeln-16/
LOCATION:Bootshaus\, Böllberger Weg 181C\, Halle (Saale)\, Germany
ATTACH;FMTTYPE=image/jpeg:https://web.bsv-halle.de/cms/wp-content/uploads/2024/06/IMG_0243.jpeg
END:VEVENT
BEGIN:VEVENT
DTSTART;TZID=Europe/Berlin:20260826T173000
DTEND;TZID=Europe/Berlin:20260826T193000
DTSTAMP:20260422T104439
CREATED:20260422T083809Z
LAST-MODIFIED:20260422T083809Z
UID:2550-1787765400-1787772600@web.bsv-halle.de
SUMMARY:offenes Feierabendpaddeln
DESCRIPTION:Paddeln auf der Saale und ihren Nebenarmen – keine Voranmeldung nötig!
URL:https://web.bsv-halle.de/cms/event/offenes-feierabendpaddeln-17/
LOCATION:Bootshaus\, Böllberger Weg 181C\, Halle (Saale)\, Germany
ATTACH;FMTTYPE=image/jpeg:https://web.bsv-halle.de/cms/wp-content/uploads/2024/06/IMG_0243.jpeg
END:VEVENT
BEGIN:VEVENT
DTSTART;TZID=Europe/Berlin:20260902T173000
DTEND;TZID=Europe/Berlin:20260902T193000
DTSTAMP:20260422T104439
CREATED:20260422T083833Z
LAST-MODIFIED:20260422T083833Z
UID:2552-1788370200-1788377400@web.bsv-halle.de
SUMMARY:offenes Feierabendpaddeln
DESCRIPTION:Paddeln auf der Saale und ihren Nebenarmen – keine Voranmeldung nötig!
URL:https://web.bsv-halle.de/cms/event/offenes-feierabendpaddeln-18/
LOCATION:Bootshaus\, Böllberger Weg 181C\, Halle (Saale)\, Germany
ATTACH;FMTTYPE=image/jpeg:https://web.bsv-halle.de/cms/wp-content/uploads/2024/06/IMG_0243.jpeg
END:VEVENT
BEGIN:VEVENT
DTSTART;TZID=Europe/Berlin:20260905T000000
DTEND;TZID=Europe/Berlin:20260905T235959
DTSTAMP:20260422T104439
CREATED:20260108T080837Z
LAST-MODIFIED:20260422T065500Z
UID:2366-1788566400-1788652799@web.bsv-halle.de
SUMMARY:Sommerfest (ggf.)
DESCRIPTION:Wir suchen noch Unterstützung bei der Organistion. Medet euch gerne bei der Leitung.
URL:https://web.bsv-halle.de/cms/event/sommerfest/
LOCATION:Bootshaus\, Böllberger Weg 181C\, Halle (Saale)\, Germany
END:VEVENT
BEGIN:VEVENT
DTSTART;TZID=Europe/Berlin:20260907T180000
DTEND;TZID=Europe/Berlin:20260907T210000
DTSTAMP:20260422T104439
CREATED:20260108T080210Z
LAST-MODIFIED:20260108T080211Z
UID:2352-1788804000-1788814800@web.bsv-halle.de
SUMMARY:Sektionsleitung Kanu + Vorstand
DESCRIPTION:Kommt für Fragen oder Anregungen gerne vorbei. Über eine vorherige Anmeldung würden wir uns freuen.
URL:https://web.bsv-halle.de/cms/event/sektionsleitung-kanu-vorstand-16/
LOCATION:Bootshaus\, Böllberger Weg 181C\, Halle (Saale)\, Germany
END:VEVENT
BEGIN:VEVENT
DTSTART;TZID=Europe/Berlin:20260909T173000
DTEND;TZID=Europe/Berlin:20260909T193000
DTSTAMP:20260422T104439
CREATED:20260422T083850Z
LAST-MODIFIED:20260422T083851Z
UID:2554-1788975000-1788982200@web.bsv-halle.de
SUMMARY:offenes Feierabendpaddeln
DESCRIPTION:Paddeln auf der Saale und ihren Nebenarmen – keine Voranmeldung nötig!
URL:https://web.bsv-halle.de/cms/event/offenes-feierabendpaddeln-19/
LOCATION:Bootshaus\, Böllberger Weg 181C\, Halle (Saale)\, Germany
ATTACH;FMTTYPE=image/jpeg:https://web.bsv-halle.de/cms/wp-content/uploads/2024/06/IMG_0243.jpeg
END:VEVENT
BEGIN:VEVENT
DTSTART;TZID=Europe/Berlin:20260916T173000
DTEND;TZID=Europe/Berlin:20260916T193000
DTSTAMP:20260422T104439
CREATED:20260422T083914Z
LAST-MODIFIED:20260422T083914Z
UID:2556-1789579800-1789587000@web.bsv-halle.de
SUMMARY:offenes Feierabendpaddeln
DESCRIPTION:Paddeln auf der Saale und ihren Nebenarmen – keine Voranmeldung nötig!
URL:https://web.bsv-halle.de/cms/event/offenes-feierabendpaddeln-20/
LOCATION:Bootshaus\, Böllberger Weg 181C\, Halle (Saale)\, Germany
ATTACH;FMTTYPE=image/jpeg:https://web.bsv-halle.de/cms/wp-content/uploads/2024/06/IMG_0243.jpeg
END:VEVENT
BEGIN:VEVENT
DTSTART;TZID=Europe/Berlin:20260919T000000
DTEND;TZID=Europe/Berlin:20260919T235959
DTSTAMP:20260422T104439
CREATED:20251212T084415Z
LAST-MODIFIED:20251212T084416Z
UID:2325-1789776000-1789862399@web.bsv-halle.de
SUMMARY:BSV Kinderwettkampf
DESCRIPTION:
URL:https://web.bsv-halle.de/cms/event/bsv-kinderwettkampf-2/
END:VEVENT
END:VCALENDAR